BEGIN:VCALENDAR
VERSION:2.0
PRODID:-//Maryland Deaf Culture Digital Library - ECPv6.15.20//NONSGML v1.0//EN
CALSCALE:GREGORIAN
METHOD:PUBLISH
X-WR-CALNAME:Maryland Deaf Culture Digital Library
X-ORIGINAL-URL:https://www.marylanddcdl.org
X-WR-CALDESC:Events for Maryland Deaf Culture Digital Library
REFRESH-INTERVAL;VALUE=DURATION:PT1H
X-Robots-Tag:noindex
X-PUBLISHED-TTL:PT1H
BEGIN:VTIMEZONE
TZID:America/New_York
BEGIN:DAYLIGHT
TZOFFSETFROM:-0500
TZOFFSETTO:-0400
TZNAME:EDT
DTSTART:20240310T070000
END:DAYLIGHT
BEGIN:STANDARD
TZOFFSETFROM:-0400
TZOFFSETTO:-0500
TZNAME:EST
DTSTART:20241103T060000
END:STANDARD
BEGIN:DAYLIGHT
TZOFFSETFROM:-0500
TZOFFSETTO:-0400
TZNAME:EDT
DTSTART:20250309T070000
END:DAYLIGHT
BEGIN:STANDARD
TZOFFSETFROM:-0400
TZOFFSETTO:-0500
TZNAME:EST
DTSTART:20251102T060000
END:STANDARD
BEGIN:DAYLIGHT
TZOFFSETFROM:-0500
TZOFFSETTO:-0400
TZNAME:EDT
DTSTART:20260308T070000
END:DAYLIGHT
BEGIN:STANDARD
TZOFFSETFROM:-0400
TZOFFSETTO:-0500
TZNAME:EST
DTSTART:20261101T060000
END:STANDARD
END:VTIMEZONE
BEGIN:VEVENT
DTSTART;TZID=America/New_York:20250909T193000
DTEND;TZID=America/New_York:20250909T210000
DTSTAMP:20260425T234848
CREATED:20251104T170642Z
LAST-MODIFIED:20251104T170742Z
UID:10001457-1757446200-1757451600@www.marylanddcdl.org
SUMMARY:In Conversation with Marlee Matlin
DESCRIPTION:Behind the Scenes with Jason Loewith\nIN CONVERSATION WITH MARLEE MATLIN\nACADEMY AWARD-WINNING ACTRESS\, AUTHOR\, & ACTIVIST\nTuesday\, September 9\, 2025\, 7:30 p.m. \nMs. Matlin will talk about the highs and lows of her career and journeys as an activist and an author. In 1986\, Ms. Matlin received the Academy Award for Best Actress for her fi lm debut in Children of a Lesser God. In 2022\, her film CODA won three Academy Awards\, including Best Picture. Ms. Matlin has also written three children’s novels\, as well as her New York Times best- selling autobiography\, I’LL SCREAM LATER. In 2025\, the documentary MARLEE MATLIN: NOT ALONE ANYMORE premiered at the Sundance Film Festival. Directed by Shoshannah Stern\, the documentary explores Ms. Matlin’s life and career\, and her activism. \nTickets are $55 Regular\, $53 Seniors\, $5 Students with Valid MC ID (Student tickets must be purchased at the box office.)\nUSE COUPON CODE FSMM10 AT CHECKOUT AND YOUR TICKET PRICE WILL BE JUST $10! \nRobert E. Parilla Performing Arts Center\nMontgomery College\n51 Mannakee Street • Rockville\, MD 20850\nwww.montgomerycollege.edu/pac • Box Office: 240-567-5301
URL:https://www.marylanddcdl.org/event/in-conversation-with-marlee-matlin/
LOCATION:Robert E. Parilla Performing Arts Center\, 51 Mannakee Street\, Rockville\, 20850\, United States
CATEGORIES:Community Events
ORGANIZER;CN="Montgomery College":MAILTO:jim.terry@montgomerycollege.edu
GEO:39.0984896;-77.1583133
X-APPLE-STRUCTURED-LOCATION;VALUE=URI;X-ADDRESS=Robert E. Parilla Performing Arts Center 51 Mannakee Street Rockville 20850 United States;X-APPLE-RADIUS=500;X-TITLE=51 Mannakee Street:geo:-77.1583133,39.0984896
END:VEVENT
END:VCALENDAR