BEGIN:VCALENDAR
VERSION:2.0
PRODID:-//Maryland Deaf Culture Digital Library - ECPv6.15.20//NONSGML v1.0//EN
CALSCALE:GREGORIAN
METHOD:PUBLISH
X-ORIGINAL-URL:https://www.marylanddcdl.org
X-WR-CALDESC:Events for Maryland Deaf Culture Digital Library
REFRESH-INTERVAL;VALUE=DURATION:PT1H
X-Robots-Tag:noindex
X-PUBLISHED-TTL:PT1H
BEGIN:VTIMEZONE
TZID:America/New_York
BEGIN:DAYLIGHT
TZOFFSETFROM:-0500
TZOFFSETTO:-0400
TZNAME:EDT
DTSTART:20240310T070000
END:DAYLIGHT
BEGIN:STANDARD
TZOFFSETFROM:-0400
TZOFFSETTO:-0500
TZNAME:EST
DTSTART:20241103T060000
END:STANDARD
BEGIN:DAYLIGHT
TZOFFSETFROM:-0500
TZOFFSETTO:-0400
TZNAME:EDT
DTSTART:20250309T070000
END:DAYLIGHT
BEGIN:STANDARD
TZOFFSETFROM:-0400
TZOFFSETTO:-0500
TZNAME:EST
DTSTART:20251102T060000
END:STANDARD
BEGIN:DAYLIGHT
TZOFFSETFROM:-0500
TZOFFSETTO:-0400
TZNAME:EDT
DTSTART:20260308T070000
END:DAYLIGHT
BEGIN:STANDARD
TZOFFSETFROM:-0400
TZOFFSETTO:-0500
TZNAME:EST
DTSTART:20261101T060000
END:STANDARD
END:VTIMEZONE
BEGIN:VEVENT
DTSTART;TZID=America/New_York:20251206T190000
DTEND;TZID=America/New_York:20251206T220000
DTSTAMP:20260425T073707
CREATED:20260108T191219Z
LAST-MODIFIED:20260108T191219Z
UID:10001806-1765047600-1765058400@www.marylanddcdl.org
SUMMARY:Charm City Kitty Club Presents DEI or DIE!!!
DESCRIPTION:The Charm City Kitty Club presents: DEI or DIE! A queer cabaret featuring a diverse lineup of performances: music\, comedy\, poetry\, burlesque\, theater\, and more!\nDelightful\, Exhilarating\, and Intriguing!\nThere are three opportunities to see the show:\nFriday\, December 5 at 8 pm! Doors open at 7 pm.\nSaturday\, December 6 at 4 pm and 8 pm! Doors open at 3 pm and 7 pm.\nYes! There is a matinee show on Saturday!!!\nWho will be there?\nYou and these amazing performers…\nMyoshi – Sensual Poetry\nKattland – Music (pictured)\nPirates of Stonewall – Queer Sea Shanties\nMary Muse – Burlesque\nViolet Gray – Comedy\nTickets: $20 general\n$15 seniors and students \nAccessibility notes: Fells Point Corner Theater is physically accessible and our show is on one level. The Saturday December 6th\, 8pm show will have sign language interpreters.
URL:https://www.marylanddcdl.org/event/charm-city-kitty-club-presents-dei-or-die/
LOCATION:Fells Point Corner Theater\, 251 S Ann St\, Baltimore\, MD\, United States\, Maryland\, Baltimore\, 21231\, United States
ATTACH;FMTTYPE=image/jpeg:https://www.marylanddcdl.org/wp-content/uploads/2025/12/dei.jpg
ORGANIZER;CN="Charm City Kitty Club":MAILTO:reverandjaibrooks@gmail.com
END:VEVENT
END:VCALENDAR