BEGIN:VCALENDAR
VERSION:2.0
PRODID:-//Maryland Deaf Culture Digital Library - ECPv6.15.20//NONSGML v1.0//EN
CALSCALE:GREGORIAN
METHOD:PUBLISH
X-WR-CALNAME:Maryland Deaf Culture Digital Library
X-ORIGINAL-URL:https://www.marylanddcdl.org
X-WR-CALDESC:Events for Maryland Deaf Culture Digital Library
REFRESH-INTERVAL;VALUE=DURATION:PT1H
X-Robots-Tag:noindex
X-PUBLISHED-TTL:PT1H
BEGIN:VTIMEZONE
TZID:America/New_York
BEGIN:DAYLIGHT
TZOFFSETFROM:-0500
TZOFFSETTO:-0400
TZNAME:EDT
DTSTART:20260308T070000
END:DAYLIGHT
BEGIN:STANDARD
TZOFFSETFROM:-0400
TZOFFSETTO:-0500
TZNAME:EST
DTSTART:20261101T060000
END:STANDARD
BEGIN:DAYLIGHT
TZOFFSETFROM:-0500
TZOFFSETTO:-0400
TZNAME:EDT
DTSTART:20270314T070000
END:DAYLIGHT
BEGIN:STANDARD
TZOFFSETFROM:-0400
TZOFFSETTO:-0500
TZNAME:EST
DTSTART:20271107T060000
END:STANDARD
BEGIN:DAYLIGHT
TZOFFSETFROM:-0500
TZOFFSETTO:-0400
TZNAME:EDT
DTSTART:20280312T070000
END:DAYLIGHT
BEGIN:STANDARD
TZOFFSETFROM:-0400
TZOFFSETTO:-0500
TZNAME:EST
DTSTART:20281105T060000
END:STANDARD
END:VTIMEZONE
BEGIN:VEVENT
DTSTART;TZID=America/New_York:20270805T130000
DTEND;TZID=America/New_York:20270805T150000
DTSTAMP:20260425T183347
CREATED:20260112T185813Z
LAST-MODIFIED:20260420T195812Z
UID:10001978-1817470800-1817478000@www.marylanddcdl.org
SUMMARY:MDCC Daytime Bingo 1st Thursday 1pm-3pm
DESCRIPTION:Bring $ for raffle prizes. $10.00 for 5 Bingo cards.
URL:https://www.marylanddcdl.org/event/mdcc-daytime-bingo-1st-thursday-1pm-3pm-17/
LOCATION:Capital Crave\, 5901 Old National Pike\, Frederick\, MD\, United States
CATEGORIES:Deaf Senior Citizens
GEO:39.41993;-77.465833
X-APPLE-STRUCTURED-LOCATION;VALUE=URI;X-ADDRESS=Capital Crave 5901 Old National Pike Frederick MD United States;X-APPLE-RADIUS=500;X-TITLE=5901 Old National Pike:geo:-77.465833,39.41993
END:VEVENT
BEGIN:VEVENT
DTSTART;TZID=America/New_York:20270812T130000
DTEND;TZID=America/New_York:20270812T150000
DTSTAMP:20260425T183347
CREATED:20260112T185813Z
LAST-MODIFIED:20260420T195813Z
UID:10001979-1818075600-1818082800@www.marylanddcdl.org
SUMMARY:MDCC Bingo
DESCRIPTION:$10 FOR 5 GAMES | CASH PRIZES!\nOptional: Bring $5 for raffle prizes\nNote of change:  2nd Thursdays.
URL:https://www.marylanddcdl.org/event/mdcc-bingo-9/
LOCATION:Capital Crave\, 5901 Old National Pike\, Frederick\, MD\, United States
CATEGORIES:Deaf Senior Citizens
GEO:39.41993;-77.465833
X-APPLE-STRUCTURED-LOCATION;VALUE=URI;X-ADDRESS=Capital Crave 5901 Old National Pike Frederick MD United States;X-APPLE-RADIUS=500;X-TITLE=5901 Old National Pike:geo:-77.465833,39.41993
END:VEVENT
BEGIN:VEVENT
DTSTART;VALUE=DATE:20270813
DTEND;VALUE=DATE:20270814
DTSTAMP:20260425T183347
CREATED:20250827T224237Z
LAST-MODIFIED:20260424T224258Z
UID:10001441-1818115200-1818201599@www.marylanddcdl.org
SUMMARY:George Veditz
DESCRIPTION:George W. Veditz – Born August 13\, 1861\, in Baltimore\, MD. Died March 12\, 1937. Last home address site: Colorado Springs\, CO. \nWriter\, teacher\, English-German translator\, strong defender of ASL and politician  Once had a personal interview with US President Woodrow Wilson.   Seventh President of the NAD.
URL:https://www.marylanddcdl.org/event/george-veditz-3/
LOCATION:MD
CATEGORIES:Library for Deaf Action's Deaf Culture Calendar
END:VEVENT
BEGIN:VEVENT
DTSTART;TZID=America/New_York:20270813T133000
DTEND;TZID=America/New_York:20270813T190000
DTSTAMP:20260425T183347
CREATED:20260420T195813Z
LAST-MODIFIED:20260420T195813Z
UID:10002133-1818163800-1818183600@www.marylanddcdl.org
SUMMARY:Silent Orioles Club—Dingo
DESCRIPTION:Door opens at 1:30 pm.\nBALTO Game starts at 3 pm.
URL:https://www.marylanddcdl.org/event/silent-orioles-club-dingo-16/
LOCATION:Reese & Community Volunteer Fire Company 1745 Baltimore Blvd\, Westminster\, MD\, United States
CATEGORIES:Deaf Senior Citizens
GEO:39.564201;-76.980701
END:VEVENT
BEGIN:VEVENT
DTSTART;TZID=America/New_York:20270815T190000
DTEND;TZID=America/New_York:20270815T210000
DTSTAMP:20260425T183347
CREATED:20260112T185813Z
LAST-MODIFIED:20260420T195813Z
UID:10001980-1818356400-1818363600@www.marylanddcdl.org
SUMMARY:ASL Social Chats @ Fairfax Wegmans
DESCRIPTION:Every 1st and 3rd Sunday of each month \nWe welcome all levels of signers to come and join us for an evening of ASL socializing and practice.  We can be found on the upper level\, typically near the stairs. Contact by email for more information: jona3ki@msn.com
URL:https://www.marylanddcdl.org/event/asl-social-chats-fairfax-wegmans-42/
LOCATION:11620 Monument Drive\, Fairfax\, VA\, United States
CATEGORIES:Deaf Senior Citizens
GEO:38.853231;-77.305097
END:VEVENT
BEGIN:VEVENT
DTSTART;TZID=America/New_York:20270818T110000
DTEND;TZID=America/New_York:20270818T150000
DTSTAMP:20260425T183347
CREATED:20260112T185813Z
LAST-MODIFIED:20260420T195813Z
UID:10001981-1818586800-1818601200@www.marylanddcdl.org
SUMMARY:Deaf Seniors--Card Games
DESCRIPTION:We will have a variety of card games available. If you would like to bring your own games\, you are more than welcome to do so. Please remember to bring your own lunch. \nBefore joining\, you must register with the Center. A 50+ Center registration form and a waiver & release form can be found here:https://www.howardcountymd.gov/resource/50-center-membership-packet.
URL:https://www.marylanddcdl.org/event/deaf-seniors-card-games-20/
LOCATION:North Laurel Community Center\, 9411 Whiskey Bottom Rd\, Laurel\, MD\, United States
CATEGORIES:Deaf Senior Citizens
GEO:39.120469;-76.837445
X-APPLE-STRUCTURED-LOCATION;VALUE=URI;X-ADDRESS=North Laurel Community Center 9411 Whiskey Bottom Rd Laurel MD United States;X-APPLE-RADIUS=500;X-TITLE=9411 Whiskey Bottom Rd:geo:-76.837445,39.120469
END:VEVENT
BEGIN:VEVENT
DTSTART;TZID=America/New_York:20270819T183000
DTEND;TZID=America/New_York:20270819T203000
DTSTAMP:20260425T183347
CREATED:20260112T185814Z
LAST-MODIFIED:20260420T195813Z
UID:10001982-1818700200-1818707400@www.marylanddcdl.org
SUMMARY:MDCC Nighttime Bingo 3rd Thursday 6:30-8:30p
DESCRIPTION:Bring $ for raffle cards and $10.00 for Bingo cards.
URL:https://www.marylanddcdl.org/event/mdcc-nighttime-bingo-3rd-thursday-630-830p-17/
LOCATION:Capital Crave\, 5901 Old National Pike\, Frederick\, MD\, United States
CATEGORIES:Deaf Senior Citizens
GEO:39.41993;-77.465833
X-APPLE-STRUCTURED-LOCATION;VALUE=URI;X-ADDRESS=Capital Crave 5901 Old National Pike Frederick MD United States;X-APPLE-RADIUS=500;X-TITLE=5901 Old National Pike:geo:-77.465833,39.41993
END:VEVENT
BEGIN:VEVENT
DTSTART;VALUE=DATE:20270824
DTEND;VALUE=DATE:20270825
DTSTAMP:20260425T183347
CREATED:20250827T224237Z
LAST-MODIFIED:20260424T224258Z
UID:10001442-1819065600-1819151999@www.marylanddcdl.org
SUMMARY:Edmund Booth
DESCRIPTION:Edmund Booth – Born August 24\, 1810\, in Chicopee\, MA. Died March 29\, 1905. Last home address site: Anamosa\, IA. \nAuthor\, newspaper publisher\, pioneer settler\, gold miner\, teacher and one of three co-founders of the National Association of the Deaf.
URL:https://www.marylanddcdl.org/event/edmund-booth-3/
LOCATION:MD
CATEGORIES:Library for Deaf Action's Deaf Culture Calendar
END:VEVENT
BEGIN:VEVENT
DTSTART;VALUE=DATE:20270825
DTEND;VALUE=DATE:20270826
DTSTAMP:20260425T183347
CREATED:20250827T224237Z
LAST-MODIFIED:20260424T224258Z
UID:10001443-1819152000-1819238399@www.marylanddcdl.org
SUMMARY:1st NAD Convention
DESCRIPTION:August 25\, 1880 — First convention of the National Association of the Deaf\, which met in Cincinnati\, Ohio.  Edmund Booth\, Edwin A. Hodgson\, and Robert P. McGregor were the co-founders of NAD\, the first national membership organization in US to defend rights of deaf people to quality education\, using sign language as their main communication medium. www.nad.org
URL:https://www.marylanddcdl.org/event/1st-nad-convention-3/
LOCATION:MD
CATEGORIES:Library for Deaf Action's Deaf Culture Calendar
END:VEVENT
BEGIN:VEVENT
DTSTART;TZID=America/New_York:20270826T183000
DTEND;TZID=America/New_York:20270826T203000
DTSTAMP:20260425T183347
CREATED:20260108T191541Z
LAST-MODIFIED:20260108T191541Z
UID:10001864-1819305000-1819312200@www.marylanddcdl.org
SUMMARY:MDCC Bingo every 4th Thursday 6:30-8:30pm
DESCRIPTION:$10 FOR 5 GAMES | CASH PRIZES!\nOptional: Bring $5 for raffle prizes
URL:https://www.marylanddcdl.org/event/mdcc-bingo-every-4th-thursday-630-830pm-4/
LOCATION:Capital Crave 5901 Old National Pike\, Frederick\, MD\, United States
CATEGORIES:Deaf Senior Citizens
GEO:39.492596;-77.461211
END:VEVENT
BEGIN:VEVENT
DTSTART;VALUE=DATE:20270831
DTEND;VALUE=DATE:20270901
DTSTAMP:20260425T183347
CREATED:20250926T224242Z
LAST-MODIFIED:20260424T224258Z
UID:10001459-1819670400-1819756799@www.marylanddcdl.org
SUMMARY:Alice Cogswell
DESCRIPTION:Alice Cogswell – Born August 31\, 1805\, in Hartford\, CT; also her last home address.  Died December 30\, 1830. \nDaughter of Dr. Mason Fitch Cogswell and first pupil to enroll American School for the Deaf.
URL:https://www.marylanddcdl.org/event/alice-cogswell-3/
LOCATION:MD
CATEGORIES:Library for Deaf Action's Deaf Culture Calendar
END:VEVENT
BEGIN:VEVENT
DTSTART;TZID=America/New_York:20270902T130000
DTEND;TZID=America/New_York:20270902T150000
DTSTAMP:20260425T183347
CREATED:20260112T185814Z
LAST-MODIFIED:20260420T195814Z
UID:10001983-1819890000-1819897200@www.marylanddcdl.org
SUMMARY:MDCC Daytime Bingo 1st Thursday 1pm-3pm
DESCRIPTION:Bring $ for raffle prizes. $10.00 for 5 Bingo cards.
URL:https://www.marylanddcdl.org/event/mdcc-daytime-bingo-1st-thursday-1pm-3pm-18/
LOCATION:Capital Crave\, 5901 Old National Pike\, Frederick\, MD\, United States
CATEGORIES:Deaf Senior Citizens
GEO:39.41993;-77.465833
X-APPLE-STRUCTURED-LOCATION;VALUE=URI;X-ADDRESS=Capital Crave 5901 Old National Pike Frederick MD United States;X-APPLE-RADIUS=500;X-TITLE=5901 Old National Pike:geo:-77.465833,39.41993
END:VEVENT
BEGIN:VEVENT
DTSTART;TZID=America/New_York:20270905T190000
DTEND;TZID=America/New_York:20270905T210000
DTSTAMP:20260425T183347
CREATED:20260112T185815Z
LAST-MODIFIED:20260420T195814Z
UID:10001984-1820170800-1820178000@www.marylanddcdl.org
SUMMARY:ASL Social Chats @ Fairfax Wegmans
DESCRIPTION:Every 1st and 3rd Sunday of each month\nWe welcome all levels of signers to come and join us for an evening of ASL socializing and practice.  We can be found on the upper level\, typically near the stairs.  Email contact: jona3ki@msn.com
URL:https://www.marylanddcdl.org/event/asl-social-chats-fairfax-wegmans-43/
LOCATION:11620 Monument Drive\, Fairfax\, VA\, United States
CATEGORIES:Deaf Senior Citizens
GEO:38.853231;-77.305097
END:VEVENT
BEGIN:VEVENT
DTSTART;TZID=America/New_York:20270909T130000
DTEND;TZID=America/New_York:20270909T150000
DTSTAMP:20260425T183347
CREATED:20260112T185815Z
LAST-MODIFIED:20260420T195814Z
UID:10001985-1820494800-1820502000@www.marylanddcdl.org
SUMMARY:MDCC Bingo
DESCRIPTION:$10 FOR 5 GAMES | CASH PRIZES!\nOptional: Bring $5 for raffle prizes\nNote of change:  2nd Thursdays.
URL:https://www.marylanddcdl.org/event/mdcc-bingo-10/
LOCATION:Capital Crave\, 5901 Old National Pike\, Frederick\, MD\, United States
CATEGORIES:Deaf Senior Citizens
GEO:39.41993;-77.465833
X-APPLE-STRUCTURED-LOCATION;VALUE=URI;X-ADDRESS=Capital Crave 5901 Old National Pike Frederick MD United States;X-APPLE-RADIUS=500;X-TITLE=5901 Old National Pike:geo:-77.465833,39.41993
END:VEVENT
BEGIN:VEVENT
DTSTART;TZID=America/New_York:20270910T133000
DTEND;TZID=America/New_York:20270910T190000
DTSTAMP:20260425T183347
CREATED:20260420T195814Z
LAST-MODIFIED:20260420T195814Z
UID:10002134-1820583000-1820602800@www.marylanddcdl.org
SUMMARY:Silent Orioles Club—Dingo
DESCRIPTION:Door opens at 1:30 pm.\nBALTO Game starts at 3 pm.
URL:https://www.marylanddcdl.org/event/silent-orioles-club-dingo-17/
LOCATION:Reese & Community Volunteer Fire Company 1745 Baltimore Blvd\, Westminster\, MD\, United States
CATEGORIES:Deaf Senior Citizens
GEO:39.564201;-76.980701
END:VEVENT
BEGIN:VEVENT
DTSTART;VALUE=DATE:20270912
DTEND;VALUE=DATE:20270913
DTSTAMP:20260425T183347
CREATED:20250926T224242Z
LAST-MODIFIED:20260424T224258Z
UID:10001460-1820707200-1820793599@www.marylanddcdl.org
SUMMARY:Gilbert Eastman
DESCRIPTION:Gilbert C. Eastman – September 12\, 1934\, in Middletown\, CT. Died December 2\, 2006. Last home address site: Bethany Beach\, DE. \nAuthor\, playwright\, professor\, artist\, leader\, expert on Laurent Clerc\, mentor\, “Man of Mosaics” in television\, theater\, and the deaf community.
URL:https://www.marylanddcdl.org/event/gilbert-eastman-3/
LOCATION:MD
CATEGORIES:Library for Deaf Action's Deaf Culture Calendar
END:VEVENT
BEGIN:VEVENT
DTSTART;TZID=America/New_York:20270915T110000
DTEND;TZID=America/New_York:20270915T150000
DTSTAMP:20260425T183347
CREATED:20260112T185815Z
LAST-MODIFIED:20260420T195814Z
UID:10001986-1821006000-1821020400@www.marylanddcdl.org
SUMMARY:Deaf Seniors--Card Games
DESCRIPTION:We will have a variety of card games available. If you would like to bring your own games\, you are more than welcome to do so. Please remember to bring your own lunch. \nBefore joining\, you must register with the Center. A 50+ Center registration form and a waiver & release form can be found here:https://www.howardcountymd.gov/resource/50-center-membership-packet.
URL:https://www.marylanddcdl.org/event/deaf-seniors-card-games-21/
LOCATION:North Laurel Community Center\, 9411 Whiskey Bottom Rd\, Laurel\, MD\, United States
CATEGORIES:Deaf Senior Citizens
GEO:39.120469;-76.837445
X-APPLE-STRUCTURED-LOCATION;VALUE=URI;X-ADDRESS=North Laurel Community Center 9411 Whiskey Bottom Rd Laurel MD United States;X-APPLE-RADIUS=500;X-TITLE=9411 Whiskey Bottom Rd:geo:-76.837445,39.120469
END:VEVENT
BEGIN:VEVENT
DTSTART;TZID=America/New_York:20270916T183000
DTEND;TZID=America/New_York:20270916T203000
DTSTAMP:20260425T183347
CREATED:20260112T185815Z
LAST-MODIFIED:20260420T195814Z
UID:10001987-1821119400-1821126600@www.marylanddcdl.org
SUMMARY:MDCC Nighttime Bingo 3rd Thursday 6:30-8:30p
DESCRIPTION:Bring $ for raffle cards and $10.00 for Bingo cards.
URL:https://www.marylanddcdl.org/event/mdcc-nighttime-bingo-3rd-thursday-630-830p-18/
LOCATION:Capital Crave\, 5901 Old National Pike\, Frederick\, MD\, United States
CATEGORIES:Deaf Senior Citizens
GEO:39.41993;-77.465833
X-APPLE-STRUCTURED-LOCATION;VALUE=URI;X-ADDRESS=Capital Crave 5901 Old National Pike Frederick MD United States;X-APPLE-RADIUS=500;X-TITLE=5901 Old National Pike:geo:-77.465833,39.41993
END:VEVENT
BEGIN:VEVENT
DTSTART;TZID=America/New_York:20270919T190000
DTEND;TZID=America/New_York:20270919T210000
DTSTAMP:20260425T183347
CREATED:20260112T185815Z
LAST-MODIFIED:20260420T195814Z
UID:10001988-1821380400-1821387600@www.marylanddcdl.org
SUMMARY:ASL Social Chats @ Fairfax Wegmans
DESCRIPTION:Every 1st and 3rd Sunday of each month \nWe welcome all levels of signers to come and join us for an evening of ASL socializing and practice.  We can be found on the upper level\, typically near the stairs. Contact by email for more information: jona3ki@msn.com
URL:https://www.marylanddcdl.org/event/asl-social-chats-fairfax-wegmans-44/
LOCATION:11620 Monument Drive\, Fairfax\, VA\, United States
CATEGORIES:Deaf Senior Citizens
GEO:38.853231;-77.305097
END:VEVENT
BEGIN:VEVENT
DTSTART;TZID=America/New_York:20270923T183000
DTEND;TZID=America/New_York:20270923T203000
DTSTAMP:20260425T183347
CREATED:20260108T191541Z
LAST-MODIFIED:20260108T191541Z
UID:10001865-1821724200-1821731400@www.marylanddcdl.org
SUMMARY:MDCC Bingo every 4th Thursday 6:30-8:30pm
DESCRIPTION:$10 FOR 5 GAMES | CASH PRIZES!\nOptional: Bring $5 for raffle prizes
URL:https://www.marylanddcdl.org/event/mdcc-bingo-every-4th-thursday-630-830pm-3/
LOCATION:Capital Crave 5901 Old National Pike\, Frederick\, MD\, United States
CATEGORIES:Deaf Senior Citizens
GEO:39.492596;-77.461211
END:VEVENT
BEGIN:VEVENT
DTSTART;VALUE=DATE:20270928
DTEND;VALUE=DATE:20270929
DTSTAMP:20260425T183347
CREATED:20251026T224243Z
LAST-MODIFIED:20260424T224258Z
UID:10001487-1822089600-1822175999@www.marylanddcdl.org
SUMMARY:Dr. Mason Cogswell
DESCRIPTION:Dr. Mason Fitch Cogswell – Born September 28\, 1761\, in Canterbury\, CT. Died December 17\, 1830. His last home address site: Hartford\, CT. \nFirst hearing father of a deaf child to advocate for quality education of deaf children in America One of the three co-founders of American School for the Deaf in Hartford\, CT.
URL:https://www.marylanddcdl.org/event/dr-mason-cogswell-3/
LOCATION:MD
CATEGORIES:Library for Deaf Action's Deaf Culture Calendar
END:VEVENT
BEGIN:VEVENT
DTSTART;TZID=America/New_York:20271003T190000
DTEND;TZID=America/New_York:20271003T210000
DTSTAMP:20260425T183347
CREATED:20260112T185816Z
LAST-MODIFIED:20260420T195815Z
UID:10001989-1822590000-1822597200@www.marylanddcdl.org
SUMMARY:ASL Social Chats @ Fairfax Wegmans
DESCRIPTION:Every 1st and 3rd Sunday of each month\nWe welcome all levels of signers to come and join us for an evening of ASL socializing and practice.  We can be found on the upper level\, typically near the stairs.  Email contact: jona3ki@msn.com
URL:https://www.marylanddcdl.org/event/asl-social-chats-fairfax-wegmans-45/
LOCATION:11620 Monument Drive\, Fairfax\, VA\, United States
CATEGORIES:Deaf Senior Citizens
GEO:38.853231;-77.305097
END:VEVENT
BEGIN:VEVENT
DTSTART;TZID=America/New_York:20271007T130000
DTEND;TZID=America/New_York:20271007T150000
DTSTAMP:20260425T183347
CREATED:20260112T185817Z
LAST-MODIFIED:20260420T195815Z
UID:10001990-1822914000-1822921200@www.marylanddcdl.org
SUMMARY:MDCC Daytime Bingo 1st Thursday 1pm-3pm
DESCRIPTION:Bring $ for raffle prizes. $10.00 for 5 Bingo cards.
URL:https://www.marylanddcdl.org/event/mdcc-daytime-bingo-1st-thursday-1pm-3pm-19/
LOCATION:Capital Crave\, 5901 Old National Pike\, Frederick\, MD\, United States
CATEGORIES:Deaf Senior Citizens
GEO:39.41993;-77.465833
X-APPLE-STRUCTURED-LOCATION;VALUE=URI;X-ADDRESS=Capital Crave 5901 Old National Pike Frederick MD United States;X-APPLE-RADIUS=500;X-TITLE=5901 Old National Pike:geo:-77.465833,39.41993
END:VEVENT
BEGIN:VEVENT
DTSTART;TZID=America/New_York:20271008T133000
DTEND;TZID=America/New_York:20271008T190000
DTSTAMP:20260425T183347
CREATED:20260420T195815Z
LAST-MODIFIED:20260420T195815Z
UID:10002135-1823002200-1823022000@www.marylanddcdl.org
SUMMARY:Silent Orioles Club—Dingo
DESCRIPTION:Door opens at 1:30 pm.\nBALTO Game starts at 3 pm.
URL:https://www.marylanddcdl.org/event/silent-orioles-club-dingo-18/
LOCATION:Reese & Community Volunteer Fire Company 1745 Baltimore Blvd\, Westminster\, MD\, United States
CATEGORIES:Deaf Senior Citizens
GEO:39.564201;-76.980701
END:VEVENT
BEGIN:VEVENT
DTSTART;TZID=America/New_York:20271014T130000
DTEND;TZID=America/New_York:20271014T150000
DTSTAMP:20260425T183347
CREATED:20260112T185817Z
LAST-MODIFIED:20260420T195815Z
UID:10001991-1823518800-1823526000@www.marylanddcdl.org
SUMMARY:MDCC Bingo
DESCRIPTION:$10 FOR 5 GAMES | CASH PRIZES!\nOptional: Bring $5 for raffle prizes\nNote of change:  2nd Thursdays.
URL:https://www.marylanddcdl.org/event/mdcc-bingo-11/
LOCATION:Capital Crave\, 5901 Old National Pike\, Frederick\, MD\, United States
CATEGORIES:Deaf Senior Citizens
GEO:39.41993;-77.465833
X-APPLE-STRUCTURED-LOCATION;VALUE=URI;X-ADDRESS=Capital Crave 5901 Old National Pike Frederick MD United States;X-APPLE-RADIUS=500;X-TITLE=5901 Old National Pike:geo:-77.465833,39.41993
END:VEVENT
BEGIN:VEVENT
DTSTART;TZID=America/New_York:20271017T190000
DTEND;TZID=America/New_York:20271017T210000
DTSTAMP:20260425T183347
CREATED:20260112T185817Z
LAST-MODIFIED:20260420T195816Z
UID:10001992-1823799600-1823806800@www.marylanddcdl.org
SUMMARY:ASL Social Chats @ Fairfax Wegmans
DESCRIPTION:Every 1st and 3rd Sunday of each month \nWe welcome all levels of signers to come and join us for an evening of ASL socializing and practice.  We can be found on the upper level\, typically near the stairs. Contact by email for more information: jona3ki@msn.com
URL:https://www.marylanddcdl.org/event/asl-social-chats-fairfax-wegmans-46/
LOCATION:11620 Monument Drive\, Fairfax\, VA\, United States
CATEGORIES:Deaf Senior Citizens
GEO:38.853231;-77.305097
END:VEVENT
BEGIN:VEVENT
DTSTART;TZID=America/New_York:20271020T110000
DTEND;TZID=America/New_York:20271020T150000
DTSTAMP:20260425T183347
CREATED:20260112T185817Z
LAST-MODIFIED:20260420T195816Z
UID:10001993-1824030000-1824044400@www.marylanddcdl.org
SUMMARY:Deaf Seniors--Card Games
DESCRIPTION:We will have a variety of card games available. If you would like to bring your own games\, you are more than welcome to do so. Please remember to bring your own lunch. \nBefore joining\, you must register with the Center. A 50+ Center registration form and a waiver & release form can be found here:https://www.howardcountymd.gov/resource/50-center-membership-packet.
URL:https://www.marylanddcdl.org/event/deaf-seniors-card-games-22/
LOCATION:North Laurel Community Center\, 9411 Whiskey Bottom Rd\, Laurel\, MD\, United States
CATEGORIES:Deaf Senior Citizens
GEO:39.120469;-76.837445
X-APPLE-STRUCTURED-LOCATION;VALUE=URI;X-ADDRESS=North Laurel Community Center 9411 Whiskey Bottom Rd Laurel MD United States;X-APPLE-RADIUS=500;X-TITLE=9411 Whiskey Bottom Rd:geo:-76.837445,39.120469
END:VEVENT
BEGIN:VEVENT
DTSTART;TZID=America/New_York:20271021T183000
DTEND;TZID=America/New_York:20271021T203000
DTSTAMP:20260425T183347
CREATED:20260112T185817Z
LAST-MODIFIED:20260420T195816Z
UID:10001994-1824143400-1824150600@www.marylanddcdl.org
SUMMARY:MDCC Nighttime Bingo 3rd Thursday 6:30-8:30p
DESCRIPTION:Bring $ for raffle cards and $10.00 for Bingo cards.
URL:https://www.marylanddcdl.org/event/mdcc-nighttime-bingo-3rd-thursday-630-830p-19/
LOCATION:Capital Crave\, 5901 Old National Pike\, Frederick\, MD\, United States
CATEGORIES:Deaf Senior Citizens
GEO:39.41993;-77.465833
X-APPLE-STRUCTURED-LOCATION;VALUE=URI;X-ADDRESS=Capital Crave 5901 Old National Pike Frederick MD United States;X-APPLE-RADIUS=500;X-TITLE=5901 Old National Pike:geo:-77.465833,39.41993
END:VEVENT
BEGIN:VEVENT
DTSTART;TZID=America/New_York:20271028T183000
DTEND;TZID=America/New_York:20271028T203000
DTSTAMP:20260425T183347
CREATED:20260108T191540Z
LAST-MODIFIED:20260108T191540Z
UID:10001866-1824748200-1824755400@www.marylanddcdl.org
SUMMARY:MDCC Bingo every 4th Thursday 6:30-8:30pm
DESCRIPTION:$10 FOR 5 GAMES | CASH PRIZES!\nOptional: Bring $5 for raffle prizes
URL:https://www.marylanddcdl.org/event/mdcc-bingo-every-4th-thursday-630-830pm-2/
LOCATION:Capital Crave 5901 Old National Pike\, Frederick\, MD\, United States
CATEGORIES:Deaf Senior Citizens
GEO:39.492596;-77.461211
END:VEVENT
BEGIN:VEVENT
DTSTART;TZID=America/New_York:20271104T130000
DTEND;TZID=America/New_York:20271104T150000
DTSTAMP:20260425T183347
CREATED:20260112T185818Z
LAST-MODIFIED:20260420T195816Z
UID:10001995-1825333200-1825340400@www.marylanddcdl.org
SUMMARY:MDCC Daytime Bingo 1st Thursday 1pm-3pm
DESCRIPTION:Bring $ for raffle prizes. $10.00 for 5 Bingo cards.
URL:https://www.marylanddcdl.org/event/mdcc-daytime-bingo-1st-thursday-1pm-3pm-20/
LOCATION:Capital Crave\, 5901 Old National Pike\, Frederick\, MD\, United States
CATEGORIES:Deaf Senior Citizens
GEO:39.41993;-77.465833
X-APPLE-STRUCTURED-LOCATION;VALUE=URI;X-ADDRESS=Capital Crave 5901 Old National Pike Frederick MD United States;X-APPLE-RADIUS=500;X-TITLE=5901 Old National Pike:geo:-77.465833,39.41993
END:VEVENT
END:VCALENDAR