BEGIN:VCALENDAR
VERSION:2.0
PRODID:-//Maryland Deaf Culture Digital Library - ECPv6.15.20//NONSGML v1.0//EN
CALSCALE:GREGORIAN
METHOD:PUBLISH
X-WR-CALNAME:Maryland Deaf Culture Digital Library
X-ORIGINAL-URL:https://www.marylanddcdl.org
X-WR-CALDESC:Events for Maryland Deaf Culture Digital Library
REFRESH-INTERVAL;VALUE=DURATION:PT1H
X-Robots-Tag:noindex
X-PUBLISHED-TTL:PT1H
BEGIN:VTIMEZONE
TZID:America/New_York
BEGIN:DAYLIGHT
TZOFFSETFROM:-0500
TZOFFSETTO:-0400
TZNAME:EDT
DTSTART:20260308T070000
END:DAYLIGHT
BEGIN:STANDARD
TZOFFSETFROM:-0400
TZOFFSETTO:-0500
TZNAME:EST
DTSTART:20261101T060000
END:STANDARD
BEGIN:DAYLIGHT
TZOFFSETFROM:-0500
TZOFFSETTO:-0400
TZNAME:EDT
DTSTART:20270314T070000
END:DAYLIGHT
BEGIN:STANDARD
TZOFFSETFROM:-0400
TZOFFSETTO:-0500
TZNAME:EST
DTSTART:20271107T060000
END:STANDARD
BEGIN:DAYLIGHT
TZOFFSETFROM:-0500
TZOFFSETTO:-0400
TZNAME:EDT
DTSTART:20280312T070000
END:DAYLIGHT
BEGIN:STANDARD
TZOFFSETFROM:-0400
TZOFFSETTO:-0500
TZNAME:EST
DTSTART:20281105T060000
END:STANDARD
END:VTIMEZONE
BEGIN:VEVENT
DTSTART;TZID=America/New_York:20270421T110000
DTEND;TZID=America/New_York:20270421T150000
DTSTAMP:20260425T101242
CREATED:20260112T185808Z
LAST-MODIFIED:20260420T195807Z
UID:10001955-1808305200-1808319600@www.marylanddcdl.org
SUMMARY:Deaf Seniors--Card Games
DESCRIPTION:We will have a variety of card games available. If you would like to bring your own games\, you are more than welcome to do so. Please remember to bring your own lunch. \nBefore joining\, you must register with the Center. A 50+ Center registration form and a waiver & release form can be found here:https://www.howardcountymd.gov/resource/50-center-membership-packet.
URL:https://www.marylanddcdl.org/event/deaf-seniors-card-games-16/
LOCATION:North Laurel Community Center\, 9411 Whiskey Bottom Rd\, Laurel\, MD\, United States
CATEGORIES:Deaf Senior Citizens
GEO:39.120469;-76.837445
X-APPLE-STRUCTURED-LOCATION;VALUE=URI;X-ADDRESS=North Laurel Community Center 9411 Whiskey Bottom Rd Laurel MD United States;X-APPLE-RADIUS=500;X-TITLE=9411 Whiskey Bottom Rd:geo:-76.837445,39.120469
END:VEVENT
BEGIN:VEVENT
DTSTART;TZID=America/New_York:20270422T183000
DTEND;TZID=America/New_York:20270422T203000
DTSTAMP:20260425T101242
CREATED:20260108T191541Z
LAST-MODIFIED:20260108T191541Z
UID:10001860-1808418600-1808425800@www.marylanddcdl.org
SUMMARY:MDCC Bingo every 4th Thursday 6:30-8:30pm
DESCRIPTION:$10 FOR 5 GAMES | CASH PRIZES!\nOptional: Bring $5 for raffle prizes
URL:https://www.marylanddcdl.org/event/mdcc-bingo-every-4th-thursday-630-830pm-8/
LOCATION:Capital Crave 5901 Old National Pike\, Frederick\, MD\, United States
CATEGORIES:Deaf Senior Citizens
GEO:39.492596;-77.461211
END:VEVENT
BEGIN:VEVENT
DTSTART;VALUE=DATE:20270426
DTEND;VALUE=DATE:20270427
DTSTAMP:20260425T101242
CREATED:20250429T222813Z
LAST-MODIFIED:20260424T224258Z
UID:10001138-1808697600-1808783999@www.marylanddcdl.org
SUMMARY:Robert McGregor
DESCRIPTION:Robert P. McGregor – Born April 26\, 1849\, in Lockland\, OH.  Died December 21\, 1926; Last home address site: Columbus\, OH. \nFirst president and one of the three co-founders of NAD.  Educator\, administrator\, writer\, skilled orator and leader.  Founder of the Ohio Home for the Aged and Infirm Deaf in 1896\, now known as Columbus Colony.
URL:https://www.marylanddcdl.org/event/robert-mcgregor-3/
LOCATION:VA
CATEGORIES:Library for Deaf Action's Deaf Culture Calendar
END:VEVENT
BEGIN:VEVENT
DTSTART;TZID=America/New_York:20270426T190000
DTEND;TZID=America/New_York:20270426T200000
DTSTAMP:20260425T101242
CREATED:20250507T180405Z
LAST-MODIFIED:20250507T180405Z
UID:10001331-1808766000-1808769600@www.marylanddcdl.org
SUMMARY:In PERSON Deaf A.A. Meeting at 857 Club
DESCRIPTION:Deaf A.A meetingMeeting is conducted in ASL.Location: 857 ClubFlyer https://drive.google.com/file/d/1_YJS8wPWkd5ifj4J9t3jiYylhatg7wUB/view?usp=sharing
URL:https://www.marylanddcdl.org/event/in-person-deaf-a-a-meeting-at-857-club-107/
LOCATION:100 S Haven St\, Baltimore\, MD\, United States
CATEGORIES:Community Events
GEO:39.279207;-76.557237
END:VEVENT
BEGIN:VEVENT
DTSTART;VALUE=DATE:20270501
DTEND;VALUE=DATE:20270502
DTSTAMP:20260425T101242
CREATED:20250529T222739Z
LAST-MODIFIED:20260424T224258Z
UID:10001334-1809129600-1809215999@www.marylanddcdl.org
SUMMARY:Better Hearing & Speech Month
DESCRIPTION:Better Hearing and Speech MonthMay\, since 1927To raise public understanding about hearing\, voice\, speech\, and language disorders\, and recognize speech and hearing professionals for the important work they do. American Speech-Language Hearing Association has library resources.  www.asha.org
URL:https://www.marylanddcdl.org/event/better-hearing-speech-month-3/
LOCATION:VA
CATEGORIES:Library for Deaf Action's Deaf Culture Calendar
END:VEVENT
BEGIN:VEVENT
DTSTART;TZID=America/New_York:20270502T190000
DTEND;TZID=America/New_York:20270502T210000
DTSTAMP:20260425T101242
CREATED:20260112T185809Z
LAST-MODIFIED:20260420T195808Z
UID:10001956-1809284400-1809291600@www.marylanddcdl.org
SUMMARY:ASL Social Chats @ Fairfax Wegmans
DESCRIPTION:Every 1st and 3rd Sunday of each month\nWe welcome all levels of signers to come and join us for an evening of ASL socializing and practice.  We can be found on the upper level\, typically near the stairs.  Email contact: jona3ki@msn.com
URL:https://www.marylanddcdl.org/event/asl-social-chats-fairfax-wegmans-35/
LOCATION:11620 Monument Drive\, Fairfax\, VA\, United States
CATEGORIES:Deaf Senior Citizens
GEO:38.853231;-77.305097
END:VEVENT
BEGIN:VEVENT
DTSTART;TZID=America/New_York:20270503T190000
DTEND;TZID=America/New_York:20270503T200000
DTSTAMP:20260425T101242
CREATED:20250507T180405Z
LAST-MODIFIED:20250507T181440Z
UID:10001332-1809370800-1809374400@www.marylanddcdl.org
SUMMARY:In PERSON Deaf A.A. Meeting at 857 Club
DESCRIPTION:Deaf A.A meeting\nMeeting is conducted in ASL.\nLocation: 857 Club\nFlyer https://drive.google.com/file/d/1_YJS8wPWkd5ifj4J9t3jiYylhatg7wUB/view?usp=sharing
URL:https://www.marylanddcdl.org/event/in-person-deaf-a-a-meeting-at-857-club-108/
LOCATION:100 S Haven St\, Baltimore\, MD\, United States
CATEGORIES:Community Events
ATTACH;FMTTYPE=image/jpeg:https://www.marylanddcdl.org/wp-content/uploads/2025/05/MDACAA.jpg
ORGANIZER;CN="Alcoholics Anonymous":MAILTO:MarylandDeafAccess@gmail.com
GEO:39.279207;-76.557237
END:VEVENT
BEGIN:VEVENT
DTSTART;TZID=America/New_York:20270504T190000
DTEND;TZID=America/New_York:20270504T200000
DTSTAMP:20260425T101242
CREATED:20250507T180405Z
LAST-MODIFIED:20250507T180405Z
UID:10001333-1809457200-1809460800@www.marylanddcdl.org
SUMMARY:INT ZOOM Hybrid Agape Meeting Maryland
DESCRIPTION:ASL Interpreter ON ZOOM Oct 1 \nCLOSED CAPTIONING AVAILABLE  \nZoom Meeting ID: 120 784 691 \nhttps://baltimoreaa.org/meetings/?weekday=tuesday&time=evening&meeting=agape-12 \nNo passcode needed \n\nDiscussion\nHybrid\nIn-person Towson\, MD 21204\nOnline\nOpen\nStep Meeting\nWheelchair Access\n\nSheppard Pratt\, Gibson Bld\n1 Friends Ln\, Towson\, MD 21204\, USA \nTowson \n \n3rd Floor.
URL:https://www.marylanddcdl.org/event/int-zoom-hybrid-agape-meeting-maryland-25/
LOCATION:VA
CATEGORIES:Community Events
END:VEVENT
BEGIN:VEVENT
DTSTART;TZID=America/New_York:20270506T130000
DTEND;TZID=America/New_York:20270506T150000
DTSTAMP:20260425T101242
CREATED:20260112T185809Z
LAST-MODIFIED:20260420T195808Z
UID:10001957-1809608400-1809615600@www.marylanddcdl.org
SUMMARY:MDCC Daytime Bingo 1st Thursday 1pm-3pm
DESCRIPTION:Bring $ for raffle prizes. $10.00 for 5 Bingo cards.
URL:https://www.marylanddcdl.org/event/mdcc-daytime-bingo-1st-thursday-1pm-3pm-14/
LOCATION:Capital Crave\, 5901 Old National Pike\, Frederick\, MD\, United States
CATEGORIES:Deaf Senior Citizens
GEO:39.41993;-77.465833
X-APPLE-STRUCTURED-LOCATION;VALUE=URI;X-ADDRESS=Capital Crave 5901 Old National Pike Frederick MD United States;X-APPLE-RADIUS=500;X-TITLE=5901 Old National Pike:geo:-77.465833,39.41993
END:VEVENT
BEGIN:VEVENT
DTSTART;TZID=America/New_York:20270513T130000
DTEND;TZID=America/New_York:20270513T150000
DTSTAMP:20260425T101242
CREATED:20260112T185809Z
LAST-MODIFIED:20260420T195808Z
UID:10001958-1810213200-1810220400@www.marylanddcdl.org
SUMMARY:MDCC Bingo
DESCRIPTION:$10 FOR 5 GAMES | CASH PRIZES!\nOptional: Bring $5 for raffle prizes\nNote of change:  2nd Thursdays.
URL:https://www.marylanddcdl.org/event/mdcc-bingo-6/
LOCATION:Capital Crave\, 5901 Old National Pike\, Frederick\, MD\, United States
CATEGORIES:Deaf Senior Citizens
GEO:39.41993;-77.465833
X-APPLE-STRUCTURED-LOCATION;VALUE=URI;X-ADDRESS=Capital Crave 5901 Old National Pike Frederick MD United States;X-APPLE-RADIUS=500;X-TITLE=5901 Old National Pike:geo:-77.465833,39.41993
END:VEVENT
BEGIN:VEVENT
DTSTART;TZID=America/New_York:20270514T133000
DTEND;TZID=America/New_York:20270514T190000
DTSTAMP:20260425T101242
CREATED:20260420T195808Z
LAST-MODIFIED:20260420T195808Z
UID:10002130-1810301400-1810321200@www.marylanddcdl.org
SUMMARY:Silent Orioles Club—Dingo
DESCRIPTION:Door opens at 1:30 pm.\nBALTO Game starts at 3 pm.
URL:https://www.marylanddcdl.org/event/silent-orioles-club-dingo-13/
LOCATION:Reese & Community Volunteer Fire Company 1745 Baltimore Blvd\, Westminster\, MD\, United States
CATEGORIES:Deaf Senior Citizens
GEO:39.564201;-76.980701
END:VEVENT
BEGIN:VEVENT
DTSTART;TZID=America/New_York:20270516T190000
DTEND;TZID=America/New_York:20270516T210000
DTSTAMP:20260425T101242
CREATED:20260112T185809Z
LAST-MODIFIED:20260420T195808Z
UID:10001959-1810494000-1810501200@www.marylanddcdl.org
SUMMARY:ASL Social Chats @ Fairfax Wegmans
DESCRIPTION:Every 1st and 3rd Sunday of each month \nWe welcome all levels of signers to come and join us for an evening of ASL socializing and practice.  We can be found on the upper level\, typically near the stairs. Contact by email for more information: jona3ki@msn.com
URL:https://www.marylanddcdl.org/event/asl-social-chats-fairfax-wegmans-36/
LOCATION:11620 Monument Drive\, Fairfax\, VA\, United States
CATEGORIES:Deaf Senior Citizens
GEO:38.853231;-77.305097
END:VEVENT
BEGIN:VEVENT
DTSTART;TZID=America/New_York:20270519T110000
DTEND;TZID=America/New_York:20270519T150000
DTSTAMP:20260425T101242
CREATED:20260112T185809Z
LAST-MODIFIED:20260420T195809Z
UID:10001960-1810724400-1810738800@www.marylanddcdl.org
SUMMARY:Deaf Seniors--Card Games
DESCRIPTION:We will have a variety of card games available. If you would like to bring your own games\, you are more than welcome to do so. Please remember to bring your own lunch. \nBefore joining\, you must register with the Center. A 50+ Center registration form and a waiver & release form can be found here:https://www.howardcountymd.gov/resource/50-center-membership-packet.
URL:https://www.marylanddcdl.org/event/deaf-seniors-card-games-17/
LOCATION:North Laurel Community Center\, 9411 Whiskey Bottom Rd\, Laurel\, MD\, United States
CATEGORIES:Deaf Senior Citizens
GEO:39.120469;-76.837445
X-APPLE-STRUCTURED-LOCATION;VALUE=URI;X-ADDRESS=North Laurel Community Center 9411 Whiskey Bottom Rd Laurel MD United States;X-APPLE-RADIUS=500;X-TITLE=9411 Whiskey Bottom Rd:geo:-76.837445,39.120469
END:VEVENT
BEGIN:VEVENT
DTSTART;TZID=America/New_York:20270520T183000
DTEND;TZID=America/New_York:20270520T203000
DTSTAMP:20260425T101242
CREATED:20260112T185809Z
LAST-MODIFIED:20260420T195809Z
UID:10001962-1810837800-1810845000@www.marylanddcdl.org
SUMMARY:MDCC Nighttime Bingo 3rd Thursday 6:30-8:30p
DESCRIPTION:Bring $ for raffle cards and $10.00 for Bingo cards.
URL:https://www.marylanddcdl.org/event/mdcc-nighttime-bingo-3rd-thursday-630-830p-14/
LOCATION:Capital Crave\, 5901 Old National Pike\, Frederick\, MD\, United States
CATEGORIES:Deaf Senior Citizens
GEO:39.41993;-77.465833
X-APPLE-STRUCTURED-LOCATION;VALUE=URI;X-ADDRESS=Capital Crave 5901 Old National Pike Frederick MD United States;X-APPLE-RADIUS=500;X-TITLE=5901 Old National Pike:geo:-77.465833,39.41993
END:VEVENT
BEGIN:VEVENT
DTSTART;VALUE=DATE:20270523
DTEND;VALUE=DATE:20270524
DTSTAMP:20260425T101242
CREATED:20250529T222739Z
LAST-MODIFIED:20260424T224258Z
UID:10001335-1811030400-1811116799@www.marylanddcdl.org
SUMMARY:William Hoy
DESCRIPTION:William Ellsworth Hoy – Born May 23\, 1862\, in Houcktown\, OH. Died December 15\, 1961. Last home address site: Cincinnati\, OH. \nFirst deaf major leaguer. He taught his teammates signs which some have become useful for umpires throughout the world like calling “balls” and “strikes”.
URL:https://www.marylanddcdl.org/event/william-hoy-3/
LOCATION:VA
CATEGORIES:Library for Deaf Action's Deaf Culture Calendar
END:VEVENT
BEGIN:VEVENT
DTSTART;TZID=America/New_York:20270527T183000
DTEND;TZID=America/New_York:20270527T203000
DTSTAMP:20260425T101242
CREATED:20260108T191541Z
LAST-MODIFIED:20260108T191541Z
UID:10001861-1811442600-1811449800@www.marylanddcdl.org
SUMMARY:MDCC Bingo every 4th Thursday 6:30-8:30pm
DESCRIPTION:$10 FOR 5 GAMES | CASH PRIZES!\nOptional: Bring $5 for raffle prizes
URL:https://www.marylanddcdl.org/event/mdcc-bingo-every-4th-thursday-630-830pm-7/
LOCATION:Capital Crave 5901 Old National Pike\, Frederick\, MD\, United States
CATEGORIES:Deaf Senior Citizens
GEO:39.492596;-77.461211
END:VEVENT
BEGIN:VEVENT
DTSTART;TZID=America/New_York:20270603T130000
DTEND;TZID=America/New_York:20270603T150000
DTSTAMP:20260425T101242
CREATED:20260112T185810Z
LAST-MODIFIED:20260420T195809Z
UID:10001964-1812027600-1812034800@www.marylanddcdl.org
SUMMARY:MDCC Daytime Bingo 1st Thursday 1pm-3pm
DESCRIPTION:Bring $ for raffle prizes. $10.00 for 5 Bingo cards.
URL:https://www.marylanddcdl.org/event/mdcc-daytime-bingo-1st-thursday-1pm-3pm-15/
LOCATION:Capital Crave\, 5901 Old National Pike\, Frederick\, MD\, United States
CATEGORIES:Deaf Senior Citizens
GEO:39.41993;-77.465833
X-APPLE-STRUCTURED-LOCATION;VALUE=URI;X-ADDRESS=Capital Crave 5901 Old National Pike Frederick MD United States;X-APPLE-RADIUS=500;X-TITLE=5901 Old National Pike:geo:-77.465833,39.41993
END:VEVENT
BEGIN:VEVENT
DTSTART;TZID=America/New_York:20270606T190000
DTEND;TZID=America/New_York:20270606T210000
DTSTAMP:20260425T101242
CREATED:20260112T185810Z
LAST-MODIFIED:20260420T195809Z
UID:10001966-1812308400-1812315600@www.marylanddcdl.org
SUMMARY:ASL Social Chats @ Fairfax Wegmans
DESCRIPTION:Every 1st and 3rd Sunday of each month\nWe welcome all levels of signers to come and join us for an evening of ASL socializing and practice.  We can be found on the upper level\, typically near the stairs.  Email contact: jona3ki@msn.com
URL:https://www.marylanddcdl.org/event/asl-social-chats-fairfax-wegmans-37/
LOCATION:11620 Monument Drive\, Fairfax\, VA\, United States
CATEGORIES:Deaf Senior Citizens
GEO:38.853231;-77.305097
END:VEVENT
BEGIN:VEVENT
DTSTART;TZID=America/New_York:20270610T130000
DTEND;TZID=America/New_York:20270610T150000
DTSTAMP:20260425T101242
CREATED:20260112T185810Z
LAST-MODIFIED:20260420T195809Z
UID:10001967-1812632400-1812639600@www.marylanddcdl.org
SUMMARY:MDCC Bingo
DESCRIPTION:$10 FOR 5 GAMES | CASH PRIZES!\nOptional: Bring $5 for raffle prizes\nNote of change:  2nd Thursdays.
URL:https://www.marylanddcdl.org/event/mdcc-bingo-7/
LOCATION:Capital Crave\, 5901 Old National Pike\, Frederick\, MD\, United States
CATEGORIES:Deaf Senior Citizens
GEO:39.41993;-77.465833
X-APPLE-STRUCTURED-LOCATION;VALUE=URI;X-ADDRESS=Capital Crave 5901 Old National Pike Frederick MD United States;X-APPLE-RADIUS=500;X-TITLE=5901 Old National Pike:geo:-77.465833,39.41993
END:VEVENT
BEGIN:VEVENT
DTSTART;VALUE=DATE:20270611
DTEND;VALUE=DATE:20270612
DTSTAMP:20260425T101242
CREATED:20260202T192804Z
LAST-MODIFIED:20260420T195810Z
UID:10002043-1812672000-1812758399@www.marylanddcdl.org
SUMMARY:Happy 70th Birthday to MDAD
DESCRIPTION:
URL:https://www.marylanddcdl.org/event/happy-70th-birthday-to-mdad-2/
LOCATION:VA
CATEGORIES:Deaf Senior Citizens
END:VEVENT
BEGIN:VEVENT
DTSTART;TZID=America/New_York:20270611T133000
DTEND;TZID=America/New_York:20270611T190000
DTSTAMP:20260425T101242
CREATED:20260420T195810Z
LAST-MODIFIED:20260420T195810Z
UID:10002131-1812720600-1812740400@www.marylanddcdl.org
SUMMARY:Silent Orioles Club—Dingo
DESCRIPTION:Door opens at 1:30 pm.\nBALTO Game starts at 3 pm.
URL:https://www.marylanddcdl.org/event/silent-orioles-club-dingo-14/
LOCATION:Reese & Community Volunteer Fire Company 1745 Baltimore Blvd\, Westminster\, MD\, United States
CATEGORIES:Deaf Senior Citizens
GEO:39.564201;-76.980701
END:VEVENT
BEGIN:VEVENT
DTSTART;VALUE=DATE:20270615
DTEND;VALUE=DATE:20270616
DTSTAMP:20260425T101242
CREATED:20250628T224233Z
LAST-MODIFIED:20260424T224258Z
UID:10001372-1813017600-1813103999@www.marylanddcdl.org
SUMMARY:John Carlin
DESCRIPTION:John Carlin – Born June 15\, 1813\, in Philadelphia\, PA. Died April 23\, 1891. Last home address site: New York City. \nArtist\, writer and advocate who contributed greatly to the cultural life of the deaf community in the 19th century.
URL:https://www.marylanddcdl.org/event/john-carlin-3/
LOCATION:VA
CATEGORIES:Library for Deaf Action's Deaf Culture Calendar
END:VEVENT
BEGIN:VEVENT
DTSTART;TZID=America/New_York:20270616T110000
DTEND;TZID=America/New_York:20270616T150000
DTSTAMP:20260425T101242
CREATED:20260112T185811Z
LAST-MODIFIED:20260420T195810Z
UID:10001968-1813143600-1813158000@www.marylanddcdl.org
SUMMARY:Deaf Seniors--Card Games
DESCRIPTION:We will have a variety of card games available. If you would like to bring your own games\, you are more than welcome to do so. Please remember to bring your own lunch. \nBefore joining\, you must register with the Center. A 50+ Center registration form and a waiver & release form can be found here:https://www.howardcountymd.gov/resource/50-center-membership-packet.
URL:https://www.marylanddcdl.org/event/deaf-seniors-card-games-18/
LOCATION:North Laurel Community Center\, 9411 Whiskey Bottom Rd\, Laurel\, MD\, United States
CATEGORIES:Deaf Senior Citizens
GEO:39.120469;-76.837445
X-APPLE-STRUCTURED-LOCATION;VALUE=URI;X-ADDRESS=North Laurel Community Center 9411 Whiskey Bottom Rd Laurel MD United States;X-APPLE-RADIUS=500;X-TITLE=9411 Whiskey Bottom Rd:geo:-76.837445,39.120469
END:VEVENT
BEGIN:VEVENT
DTSTART;TZID=America/New_York:20270617T183000
DTEND;TZID=America/New_York:20270617T203000
DTSTAMP:20260425T101242
CREATED:20260112T185811Z
LAST-MODIFIED:20260420T195810Z
UID:10001969-1813257000-1813264200@www.marylanddcdl.org
SUMMARY:MDCC Nighttime Bingo 3rd Thursday 6:30-8:30p
DESCRIPTION:Bring $ for raffle cards and $10.00 for Bingo cards.
URL:https://www.marylanddcdl.org/event/mdcc-nighttime-bingo-3rd-thursday-630-830p-15/
LOCATION:Capital Crave\, 5901 Old National Pike\, Frederick\, MD\, United States
CATEGORIES:Deaf Senior Citizens
GEO:39.41993;-77.465833
X-APPLE-STRUCTURED-LOCATION;VALUE=URI;X-ADDRESS=Capital Crave 5901 Old National Pike Frederick MD United States;X-APPLE-RADIUS=500;X-TITLE=5901 Old National Pike:geo:-77.465833,39.41993
END:VEVENT
BEGIN:VEVENT
DTSTART;TZID=America/New_York:20270620T190000
DTEND;TZID=America/New_York:20270620T210000
DTSTAMP:20260425T101242
CREATED:20260112T185811Z
LAST-MODIFIED:20260420T195810Z
UID:10001970-1813518000-1813525200@www.marylanddcdl.org
SUMMARY:ASL Social Chats @ Fairfax Wegmans
DESCRIPTION:Every 1st and 3rd Sunday of each month \nWe welcome all levels of signers to come and join us for an evening of ASL socializing and practice.  We can be found on the upper level\, typically near the stairs. Contact by email for more information: jona3ki@msn.com
URL:https://www.marylanddcdl.org/event/asl-social-chats-fairfax-wegmans-38/
LOCATION:11620 Monument Drive\, Fairfax\, VA\, United States
CATEGORIES:Deaf Senior Citizens
GEO:38.853231;-77.305097
END:VEVENT
BEGIN:VEVENT
DTSTART;VALUE=DATE:20270623
DTEND;VALUE=DATE:20270624
DTSTAMP:20260425T101242
CREATED:20250628T224233Z
LAST-MODIFIED:20260424T224258Z
UID:10001373-1813708800-1813795199@www.marylanddcdl.org
SUMMARY:1st Gallaudet commencement
DESCRIPTION:June 23\, 1869 — First Commencement of Gallaudet University\, held at the First Congregational Church in Washington\, D.C. John Carlin\, the first deaf recipient awarded an honorary degree (Master of Arts).
URL:https://www.marylanddcdl.org/event/1st-gallaudet-commencement-3/
LOCATION:VA
CATEGORIES:Library for Deaf Action's Deaf Culture Calendar
END:VEVENT
BEGIN:VEVENT
DTSTART;TZID=America/New_York:20270624T183000
DTEND;TZID=America/New_York:20270624T203000
DTSTAMP:20260425T101242
CREATED:20260108T191541Z
LAST-MODIFIED:20260108T191541Z
UID:10001862-1813861800-1813869000@www.marylanddcdl.org
SUMMARY:MDCC Bingo every 4th Thursday 6:30-8:30pm
DESCRIPTION:$10 FOR 5 GAMES | CASH PRIZES!\nOptional: Bring $5 for raffle prizes
URL:https://www.marylanddcdl.org/event/mdcc-bingo-every-4th-thursday-630-830pm-6/
LOCATION:Capital Crave 5901 Old National Pike\, Frederick\, MD\, United States
CATEGORIES:Deaf Senior Citizens
GEO:39.492596;-77.461211
END:VEVENT
BEGIN:VEVENT
DTSTART;VALUE=DATE:20270627
DTEND;VALUE=DATE:20270628
DTSTAMP:20260425T101242
CREATED:20250628T224233Z
LAST-MODIFIED:20260424T224258Z
UID:10001374-1814054400-1814140799@www.marylanddcdl.org
SUMMARY:Hellen Keller
DESCRIPTION:Helen Adams Keller – Born June 27\, 1880\, in Tuscumbia\, AL. Died June 1\, 1968.  Last home address site: Westport\, CT. \nFirst deaf-blind author and lecturer who received many honors for her global advocacy on human rights. \nNational Helen Keller Deaf-Blind Awareness WeekFull week in June that includes the 27th\, the birth date of Helen KellerA US presidential proclamation since 1984To observe the birth anniversary of Helen Keller who was born on June 27 in 1880 and to enhance public awareness about deaf-blind people’s needs for full participation in societyHelen Keller National Center has library resources    www.hknc.org
URL:https://www.marylanddcdl.org/event/hellen-keller-3/
LOCATION:VA
CATEGORIES:Library for Deaf Action's Deaf Culture Calendar
END:VEVENT
BEGIN:VEVENT
DTSTART;VALUE=DATE:20270627
DTEND;VALUE=DATE:20270628
DTSTAMP:20260425T101242
CREATED:20250628T224233Z
LAST-MODIFIED:20260424T224258Z
UID:10001375-1814054400-1814140799@www.marylanddcdl.org
SUMMARY:Andrew Foster
DESCRIPTION:Andrew Jackson Foster – Born June 27\, 1925\, in Birmingham\, AL. Died December 3\, 1987. Last home address site: Ibadan\, Nigeria. \nAmerican educator who founded thirty-one schools and many other programs for deaf people in thirteen African countries; first African American to graduate from Gallaudet College.
URL:https://www.marylanddcdl.org/event/andrew-foster-3/
LOCATION:VA
CATEGORIES:Library for Deaf Action's Deaf Culture Calendar
END:VEVENT
BEGIN:VEVENT
DTSTART;TZID=America/New_York:20270701T130000
DTEND;TZID=America/New_York:20270701T150000
DTSTAMP:20260425T101242
CREATED:20260112T185811Z
LAST-MODIFIED:20260420T195810Z
UID:10001971-1814446800-1814454000@www.marylanddcdl.org
SUMMARY:MDCC Daytime Bingo 1st Thursday 1pm-3pm
DESCRIPTION:Bring $ for raffle prizes. $10.00 for 5 Bingo cards.
URL:https://www.marylanddcdl.org/event/mdcc-daytime-bingo-1st-thursday-1pm-3pm-16/
LOCATION:Capital Crave\, 5901 Old National Pike\, Frederick\, MD\, United States
CATEGORIES:Deaf Senior Citizens
GEO:39.41993;-77.465833
X-APPLE-STRUCTURED-LOCATION;VALUE=URI;X-ADDRESS=Capital Crave 5901 Old National Pike Frederick MD United States;X-APPLE-RADIUS=500;X-TITLE=5901 Old National Pike:geo:-77.465833,39.41993
END:VEVENT
END:VCALENDAR