BEGIN:VCALENDAR
VERSION:2.0
PRODID:-//Maryland Deaf Culture Digital Library - ECPv6.15.20//NONSGML v1.0//EN
CALSCALE:GREGORIAN
METHOD:PUBLISH
X-ORIGINAL-URL:https://www.marylanddcdl.org
X-WR-CALDESC:Events for Maryland Deaf Culture Digital Library
REFRESH-INTERVAL;VALUE=DURATION:PT1H
X-Robots-Tag:noindex
X-PUBLISHED-TTL:PT1H
BEGIN:VTIMEZONE
TZID:America/New_York
BEGIN:DAYLIGHT
TZOFFSETFROM:-0500
TZOFFSETTO:-0400
TZNAME:EDT
DTSTART:20260308T070000
END:DAYLIGHT
BEGIN:STANDARD
TZOFFSETFROM:-0400
TZOFFSETTO:-0500
TZNAME:EST
DTSTART:20261101T060000
END:STANDARD
BEGIN:DAYLIGHT
TZOFFSETFROM:-0500
TZOFFSETTO:-0400
TZNAME:EDT
DTSTART:20270314T070000
END:DAYLIGHT
BEGIN:STANDARD
TZOFFSETFROM:-0400
TZOFFSETTO:-0500
TZNAME:EST
DTSTART:20271107T060000
END:STANDARD
BEGIN:DAYLIGHT
TZOFFSETFROM:-0500
TZOFFSETTO:-0400
TZNAME:EDT
DTSTART:20280312T070000
END:DAYLIGHT
BEGIN:STANDARD
TZOFFSETFROM:-0400
TZOFFSETTO:-0500
TZNAME:EST
DTSTART:20281105T060000
END:STANDARD
END:VTIMEZONE
BEGIN:VEVENT
DTSTART;TZID=America/New_York:20270316T190000
DTEND;TZID=America/New_York:20270316T200000
DTSTAMP:20260425T072730
CREATED:20250507T180404Z
LAST-MODIFIED:20250507T180404Z
UID:10001322-1805223600-1805227200@www.marylanddcdl.org
SUMMARY:INT In person & CC Hybrid Agape Meeting Maryland
DESCRIPTION:Zoom Meeting ID: 120 784 691 \nhttps://baltimoreaa.org/meetings/?weekday=tuesday&time=evening&meeting=agape-12 \nNo passcode needed \n\nDiscussion\nHybrid\nIn-person Towson\, MD 21204\nOnline\nOpen\nStep Meeting\nWheelchair Access\n\nSheppard Pratt\, Gibson Bld\n1 Friends Ln\, Towson\, MD 21204\, USA \nTowson \n \n3rd Floor.
URL:https://www.marylanddcdl.org/event/int-in-person-cc-hybrid-agape-meeting-maryland-24/
LOCATION:VA
CATEGORIES:Community Events
END:VEVENT
BEGIN:VEVENT
DTSTART;TZID=America/New_York:20270317T110000
DTEND;TZID=America/New_York:20270317T150000
DTSTAMP:20260425T072730
CREATED:20260112T185806Z
LAST-MODIFIED:20260420T195806Z
UID:10001947-1805281200-1805295600@www.marylanddcdl.org
SUMMARY:Deaf Seniors--Card Games
DESCRIPTION:We will have a variety of card games available. If you would like to bring your own games\, you are more than welcome to do so. Please remember to bring your own lunch. \nBefore joining\, you must register with the Center. A 50+ Center registration form and a waiver & release form can be found here:https://www.howardcountymd.gov/resource/50-center-membership-packet.
URL:https://www.marylanddcdl.org/event/deaf-seniors-card-games-15/
LOCATION:North Laurel Community Center\, 9411 Whiskey Bottom Rd\, Laurel\, MD\, United States
CATEGORIES:Deaf Senior Citizens
GEO:39.120469;-76.837445
X-APPLE-STRUCTURED-LOCATION;VALUE=URI;X-ADDRESS=North Laurel Community Center 9411 Whiskey Bottom Rd Laurel MD United States;X-APPLE-RADIUS=500;X-TITLE=9411 Whiskey Bottom Rd:geo:-76.837445,39.120469
END:VEVENT
BEGIN:VEVENT
DTSTART;TZID=America/New_York:20270318T183000
DTEND;TZID=America/New_York:20270318T203000
DTSTAMP:20260425T072730
CREATED:20260112T185807Z
LAST-MODIFIED:20260420T195806Z
UID:10001948-1805394600-1805401800@www.marylanddcdl.org
SUMMARY:MDCC Nighttime Bingo 3rd Thursday 6:30-8:30p
DESCRIPTION:Bring $ for raffle cards and $10.00 for Bingo cards.
URL:https://www.marylanddcdl.org/event/mdcc-nighttime-bingo-3rd-thursday-630-830p-12/
LOCATION:Capital Crave\, 5901 Old National Pike\, Frederick\, MD\, United States
CATEGORIES:Deaf Senior Citizens
GEO:39.41993;-77.465833
X-APPLE-STRUCTURED-LOCATION;VALUE=URI;X-ADDRESS=Capital Crave 5901 Old National Pike Frederick MD United States;X-APPLE-RADIUS=500;X-TITLE=5901 Old National Pike:geo:-77.465833,39.41993
END:VEVENT
BEGIN:VEVENT
DTSTART;VALUE=DATE:20270320
DTEND;VALUE=DATE:20270321
DTSTAMP:20260425T072730
CREATED:20250330T222743Z
LAST-MODIFIED:20260424T224257Z
UID:10001122-1805500800-1805587199@www.marylanddcdl.org
SUMMARY:Sophia Fowler Gallaudet
DESCRIPTION:Sophia Fowler Gallaudet – Born March 20\, 1798\, in Guilford\, CT.  Died May 13\, 1877; her last home address site: Hartford\, CT. \nInfluential advocate to the US Congress on behalf of education of deaf people in the 1860s and who was known as “Queen of the Deaf Community”  Deaf wife of  Thomas Hopkins Gallaudet and mother of Edward Miner Gallaudet\, first president of Gallaudet University.  Died in Washington\, DC when visiting his son.
URL:https://www.marylanddcdl.org/event/sophia-fowler-gallaudet-3/
LOCATION:VA
CATEGORIES:Library for Deaf Action's Deaf Culture Calendar
END:VEVENT
BEGIN:VEVENT
DTSTART;VALUE=DATE:20270321
DTEND;VALUE=DATE:20270322
DTSTAMP:20260425T072730
CREATED:20250330T222743Z
LAST-MODIFIED:20260424T224257Z
UID:10001123-1805587200-1805673599@www.marylanddcdl.org
SUMMARY:David Peikoff
DESCRIPTION:David Peikoff – Born March 21\, 1900\, in Yanoschina\, Polava Province\, Russia.  Died January 28\, 1995; last home address site: Greenbelt\, MD. \nDynamic leader who was known to hold the office of many deaf organizations and for his remarkable career in fundraising.
URL:https://www.marylanddcdl.org/event/david-peikoff-4/
LOCATION:VA
CATEGORIES:Library for Deaf Action's Deaf Culture Calendar
END:VEVENT
BEGIN:VEVENT
DTSTART;TZID=America/New_York:20270321T190000
DTEND;TZID=America/New_York:20270321T210000
DTSTAMP:20260425T072730
CREATED:20260112T185807Z
LAST-MODIFIED:20260420T195806Z
UID:10001949-1805655600-1805662800@www.marylanddcdl.org
SUMMARY:ASL Social Chats @ Fairfax Wegmans
DESCRIPTION:Every 1st and 3rd Sunday of each month \nWe welcome all levels of signers to come and join us for an evening of ASL socializing and practice.  We can be found on the upper level\, typically near the stairs. Contact by email for more information: jona3ki@msn.com
URL:https://www.marylanddcdl.org/event/asl-social-chats-fairfax-wegmans-32/
LOCATION:11620 Monument Drive\, Fairfax\, VA\, United States
CATEGORIES:Deaf Senior Citizens
GEO:38.853231;-77.305097
END:VEVENT
BEGIN:VEVENT
DTSTART;TZID=America/New_York:20270322T190000
DTEND;TZID=America/New_York:20270322T200000
DTSTAMP:20260425T072730
CREATED:20250507T180404Z
LAST-MODIFIED:20250507T180404Z
UID:10001323-1805742000-1805745600@www.marylanddcdl.org
SUMMARY:In PERSON Deaf A.A. Meeting at 857 Club
DESCRIPTION:Deaf A.A meetingMeeting is conducted in ASL.Location: 857 ClubFlyer https://drive.google.com/file/d/1_YJS8wPWkd5ifj4J9t3jiYylhatg7wUB/view?usp=sharing
URL:https://www.marylanddcdl.org/event/in-person-deaf-a-a-meeting-at-857-club-102/
LOCATION:100 S Haven St\, Baltimore\, MD\, United States
CATEGORIES:Community Events
GEO:39.279207;-76.557237
END:VEVENT
BEGIN:VEVENT
DTSTART;TZID=America/New_York:20270325T183000
DTEND;TZID=America/New_York:20270325T203000
DTSTAMP:20260425T072730
CREATED:20260108T191541Z
LAST-MODIFIED:20260108T191541Z
UID:10001859-1805999400-1806006600@www.marylanddcdl.org
SUMMARY:MDCC Bingo every 4th Thursday 6:30-8:30pm
DESCRIPTION:$10 FOR 5 GAMES | CASH PRIZES!\nOptional: Bring $5 for raffle prizes
URL:https://www.marylanddcdl.org/event/mdcc-bingo-every-4th-thursday-630-830pm-9/
LOCATION:Capital Crave 5901 Old National Pike\, Frederick\, MD\, United States
CATEGORIES:Deaf Senior Citizens
GEO:39.492596;-77.461211
END:VEVENT
BEGIN:VEVENT
DTSTART;TZID=America/New_York:20270329T190000
DTEND;TZID=America/New_York:20270329T200000
DTSTAMP:20260425T072730
CREATED:20250507T180405Z
LAST-MODIFIED:20250507T180405Z
UID:10001324-1806346800-1806350400@www.marylanddcdl.org
SUMMARY:In PERSON Deaf A.A. Meeting at 857 Club
DESCRIPTION:Deaf A.A meetingMeeting is conducted in ASL.Location: 857 ClubFlyer https://drive.google.com/file/d/1_YJS8wPWkd5ifj4J9t3jiYylhatg7wUB/view?usp=sharing
URL:https://www.marylanddcdl.org/event/in-person-deaf-a-a-meeting-at-857-club-103/
LOCATION:100 S Haven St\, Baltimore\, MD\, United States
CATEGORIES:Community Events
GEO:39.279207;-76.557237
END:VEVENT
BEGIN:VEVENT
DTSTART;TZID=America/New_York:20270401T130000
DTEND;TZID=America/New_York:20270401T150000
DTSTAMP:20260425T072730
CREATED:20260112T185807Z
LAST-MODIFIED:20260420T195807Z
UID:10001950-1806584400-1806591600@www.marylanddcdl.org
SUMMARY:MDCC Daytime Bingo 1st Thursday 1pm-3pm
DESCRIPTION:Bring $ for raffle prizes. $10.00 for 5 Bingo cards.
URL:https://www.marylanddcdl.org/event/mdcc-daytime-bingo-1st-thursday-1pm-3pm-13/
LOCATION:Capital Crave\, 5901 Old National Pike\, Frederick\, MD\, United States
CATEGORIES:Deaf Senior Citizens
GEO:39.41993;-77.465833
X-APPLE-STRUCTURED-LOCATION;VALUE=URI;X-ADDRESS=Capital Crave 5901 Old National Pike Frederick MD United States;X-APPLE-RADIUS=500;X-TITLE=5901 Old National Pike:geo:-77.465833,39.41993
END:VEVENT
BEGIN:VEVENT
DTSTART;TZID=America/New_York:20270404T190000
DTEND;TZID=America/New_York:20270404T210000
DTSTAMP:20260425T072730
CREATED:20260112T185808Z
LAST-MODIFIED:20260420T195807Z
UID:10001951-1806865200-1806872400@www.marylanddcdl.org
SUMMARY:ASL Social Chats @ Fairfax Wegmans
DESCRIPTION:Every 1st and 3rd Sunday of each month\nWe welcome all levels of signers to come and join us for an evening of ASL socializing and practice.  We can be found on the upper level\, typically near the stairs.  Email contact: jona3ki@msn.com
URL:https://www.marylanddcdl.org/event/asl-social-chats-fairfax-wegmans-33/
LOCATION:11620 Monument Drive\, Fairfax\, VA\, United States
CATEGORIES:Deaf Senior Citizens
GEO:38.853231;-77.305097
END:VEVENT
BEGIN:VEVENT
DTSTART;TZID=America/New_York:20270405T190000
DTEND;TZID=America/New_York:20270405T200000
DTSTAMP:20260425T072730
CREATED:20250507T180405Z
LAST-MODIFIED:20250507T180405Z
UID:10001325-1806951600-1806955200@www.marylanddcdl.org
SUMMARY:In PERSON Deaf A.A. Meeting at 857 Club
DESCRIPTION:Deaf A.A meetingMeeting is conducted in ASL.Location: 857 ClubFlyer https://drive.google.com/file/d/1_YJS8wPWkd5ifj4J9t3jiYylhatg7wUB/view?usp=sharing
URL:https://www.marylanddcdl.org/event/in-person-deaf-a-a-meeting-at-857-club-104/
LOCATION:100 S Haven St\, Baltimore\, MD\, United States
CATEGORIES:Community Events
GEO:39.279207;-76.557237
END:VEVENT
BEGIN:VEVENT
DTSTART;TZID=America/New_York:20270406T190000
DTEND;TZID=America/New_York:20270406T200000
DTSTAMP:20260425T072730
CREATED:20250507T180405Z
LAST-MODIFIED:20250507T180405Z
UID:10001326-1807038000-1807041600@www.marylanddcdl.org
SUMMARY:INT ZOOM Hybrid Agape Meeting Maryland
DESCRIPTION:ASL Interpreter ON ZOOM Oct 1 \nCLOSED CAPTIONING AVAILABLE  \nZoom Meeting ID: 120 784 691 \nhttps://baltimoreaa.org/meetings/?weekday=tuesday&time=evening&meeting=agape-12 \nNo passcode needed \n\nDiscussion\nHybrid\nIn-person Towson\, MD 21204\nOnline\nOpen\nStep Meeting\nWheelchair Access\n\nSheppard Pratt\, Gibson Bld\n1 Friends Ln\, Towson\, MD 21204\, USA \nTowson \n \n3rd Floor.
URL:https://www.marylanddcdl.org/event/int-zoom-hybrid-agape-meeting-maryland-24/
LOCATION:VA
CATEGORIES:Community Events
END:VEVENT
BEGIN:VEVENT
DTSTART;VALUE=DATE:20270408
DTEND;VALUE=DATE:20270409
DTSTAMP:20260425T072730
CREATED:20250429T222813Z
LAST-MODIFIED:20260424T224257Z
UID:10001134-1807142400-1807228799@www.marylanddcdl.org
SUMMARY:Gallaudet College charter
DESCRIPTION:April 8\, 1864 — Charter signed by United States President Abraham Lincoln authorizing the Board of Directors of Gallaudet University to grant college degrees to deaf students.   Dr. Edward Miner Gallaudet and Amos Kendall were the co-founders of Gallaudet University.
URL:https://www.marylanddcdl.org/event/gallaudet-college-charter-3/
LOCATION:VA
CATEGORIES:Library for Deaf Action's Deaf Culture Calendar
END:VEVENT
BEGIN:VEVENT
DTSTART;TZID=America/New_York:20270408T130000
DTEND;TZID=America/New_York:20270408T150000
DTSTAMP:20260425T072730
CREATED:20260112T185808Z
LAST-MODIFIED:20260420T195807Z
UID:10001952-1807189200-1807196400@www.marylanddcdl.org
SUMMARY:MDCC Bingo
DESCRIPTION:$10 FOR 5 GAMES | CASH PRIZES!\nOptional: Bring $5 for raffle prizes\nNote of change:  2nd Thursdays.
URL:https://www.marylanddcdl.org/event/mdcc-bingo-5/
LOCATION:Capital Crave\, 5901 Old National Pike\, Frederick\, MD\, United States
CATEGORIES:Deaf Senior Citizens
GEO:39.41993;-77.465833
X-APPLE-STRUCTURED-LOCATION;VALUE=URI;X-ADDRESS=Capital Crave 5901 Old National Pike Frederick MD United States;X-APPLE-RADIUS=500;X-TITLE=5901 Old National Pike:geo:-77.465833,39.41993
END:VEVENT
BEGIN:VEVENT
DTSTART;TZID=America/New_York:20270409T133000
DTEND;TZID=America/New_York:20270409T190000
DTSTAMP:20260425T072730
CREATED:20260420T195807Z
LAST-MODIFIED:20260420T195807Z
UID:10002129-1807277400-1807297200@www.marylanddcdl.org
SUMMARY:Silent Orioles Club—Dingo
DESCRIPTION:Door opens at 1:30 pm.\nBALTO Game starts at 3 pm.
URL:https://www.marylanddcdl.org/event/silent-orioles-club-dingo-12/
LOCATION:Reese & Community Volunteer Fire Company 1745 Baltimore Blvd\, Westminster\, MD\, United States
CATEGORIES:Deaf Senior Citizens
GEO:39.564201;-76.980701
END:VEVENT
BEGIN:VEVENT
DTSTART;TZID=America/New_York:20270412T190000
DTEND;TZID=America/New_York:20270412T200000
DTSTAMP:20260425T072730
CREATED:20250507T180405Z
LAST-MODIFIED:20250507T180405Z
UID:10001328-1807556400-1807560000@www.marylanddcdl.org
SUMMARY:In PERSON Deaf A.A. Meeting at 857 Club
DESCRIPTION:Deaf A.A meetingMeeting is conducted in ASL.Location: 857 ClubFlyer https://drive.google.com/file/d/1_YJS8wPWkd5ifj4J9t3jiYylhatg7wUB/view?usp=sharing
URL:https://www.marylanddcdl.org/event/in-person-deaf-a-a-meeting-at-857-club-105/
LOCATION:100 S Haven St\, Baltimore\, MD\, United States
CATEGORIES:Community Events
GEO:39.279207;-76.557237
END:VEVENT
BEGIN:VEVENT
DTSTART;VALUE=DATE:20270413
DTEND;VALUE=DATE:20270414
DTSTAMP:20260425T072730
CREATED:20250429T222813Z
LAST-MODIFIED:20260424T224257Z
UID:10001135-1807574400-1807660799@www.marylanddcdl.org
SUMMARY:Byron Burnes
DESCRIPTION:Byron Benton Burnes – Born April 13\, 1904\, in Batavia\, IA.  Died August 25\, 1999; his last home address site: Martinez\, CA. \nTaught many years at California School for the Deaf.  Elected the 16th president of the National Association of the Deaf and remained president from 1946 to 1964\, the longest presidential tenure so far.
URL:https://www.marylanddcdl.org/event/byron-burnes-3/
LOCATION:VA
CATEGORIES:Library for Deaf Action's Deaf Culture Calendar
END:VEVENT
BEGIN:VEVENT
DTSTART;VALUE=DATE:20270415
DTEND;VALUE=DATE:20270416
DTSTAMP:20260425T072730
CREATED:20250429T222813Z
LAST-MODIFIED:20260424T224258Z
UID:10001136-1807747200-1807833599@www.marylanddcdl.org
SUMMARY:American School for the Deaf founded
DESCRIPTION:April 15\, 1817 — Establishment of the first permanent public school in the Western Hemisphere for deaf students\, now known as American School for the Deaf\, located in Hartford\, Connecticut. Laurent Clerc\, Dr. Mason Fitch Cogswell and Thomas Hopkins Gallaudet were the school co-founders.
URL:https://www.marylanddcdl.org/event/american-school-for-the-deaf-founded-3/
LOCATION:VA
CATEGORIES:Library for Deaf Action's Deaf Culture Calendar
END:VEVENT
BEGIN:VEVENT
DTSTART;TZID=America/New_York:20270415T183000
DTEND;TZID=America/New_York:20270415T203000
DTSTAMP:20260425T072730
CREATED:20260112T185808Z
LAST-MODIFIED:20260420T195807Z
UID:10001953-1807813800-1807821000@www.marylanddcdl.org
SUMMARY:MDCC Nighttime Bingo 3rd Thursday 6:30-8:30p
DESCRIPTION:Bring $ for raffle cards and $10.00 for Bingo cards.
URL:https://www.marylanddcdl.org/event/mdcc-nighttime-bingo-3rd-thursday-630-830p-13/
LOCATION:Capital Crave\, 5901 Old National Pike\, Frederick\, MD\, United States
CATEGORIES:Deaf Senior Citizens
GEO:39.41993;-77.465833
X-APPLE-STRUCTURED-LOCATION;VALUE=URI;X-ADDRESS=Capital Crave 5901 Old National Pike Frederick MD United States;X-APPLE-RADIUS=500;X-TITLE=5901 Old National Pike:geo:-77.465833,39.41993
END:VEVENT
BEGIN:VEVENT
DTSTART;TZID=America/New_York:20270418T190000
DTEND;TZID=America/New_York:20270418T210000
DTSTAMP:20260425T072730
CREATED:20260112T185808Z
LAST-MODIFIED:20260420T195807Z
UID:10001954-1808074800-1808082000@www.marylanddcdl.org
SUMMARY:ASL Social Chats @ Fairfax Wegmans
DESCRIPTION:Every 1st and 3rd Sunday of each month \nWe welcome all levels of signers to come and join us for an evening of ASL socializing and practice.  We can be found on the upper level\, typically near the stairs. Contact by email for more information: jona3ki@msn.com
URL:https://www.marylanddcdl.org/event/asl-social-chats-fairfax-wegmans-34/
LOCATION:11620 Monument Drive\, Fairfax\, VA\, United States
CATEGORIES:Deaf Senior Citizens
GEO:38.853231;-77.305097
END:VEVENT
BEGIN:VEVENT
DTSTART;VALUE=DATE:20270419
DTEND;VALUE=DATE:20270420
DTSTAMP:20260425T072730
CREATED:20250429T222813Z
LAST-MODIFIED:20260424T224258Z
UID:10001137-1808092800-1808179199@www.marylanddcdl.org
SUMMARY:Erastus “Deaf” Smith
DESCRIPTION:Erastus “Deaf” Smith – Born April 19\, 1787\, near Poughkeepsie\, NY.  Died November 30\, 1837; last home address site: Richmond\, TX. \nChief scout and spy for a Texas army; Texas’s folk hero. He helped Texas get independence from Mexico. One county in Texas was named “Deaf Smith” after him.
URL:https://www.marylanddcdl.org/event/erastus-deaf-smith-3/
LOCATION:VA
CATEGORIES:Library for Deaf Action's Deaf Culture Calendar
END:VEVENT
BEGIN:VEVENT
DTSTART;TZID=America/New_York:20270419T190000
DTEND;TZID=America/New_York:20270419T200000
DTSTAMP:20260425T072730
CREATED:20250507T180405Z
LAST-MODIFIED:20250507T180405Z
UID:10001329-1808161200-1808164800@www.marylanddcdl.org
SUMMARY:In PERSON Deaf A.A. Meeting at 857 Club
DESCRIPTION:Deaf A.A meetingMeeting is conducted in ASL.Location: 857 ClubFlyer https://drive.google.com/file/d/1_YJS8wPWkd5ifj4J9t3jiYylhatg7wUB/view?usp=sharing
URL:https://www.marylanddcdl.org/event/in-person-deaf-a-a-meeting-at-857-club-106/
LOCATION:100 S Haven St\, Baltimore\, MD\, United States
CATEGORIES:Community Events
GEO:39.279207;-76.557237
END:VEVENT
BEGIN:VEVENT
DTSTART;TZID=America/New_York:20270420T190000
DTEND;TZID=America/New_York:20270420T200000
DTSTAMP:20260425T072730
CREATED:20250507T180405Z
LAST-MODIFIED:20250507T180405Z
UID:10001330-1808247600-1808251200@www.marylanddcdl.org
SUMMARY:INT In person & CC Hybrid Agape Meeting Maryland
DESCRIPTION:Zoom Meeting ID: 120 784 691 \nhttps://baltimoreaa.org/meetings/?weekday=tuesday&time=evening&meeting=agape-12 \nNo passcode needed \n\nDiscussion\nHybrid\nIn-person Towson\, MD 21204\nOnline\nOpen\nStep Meeting\nWheelchair Access\n\nSheppard Pratt\, Gibson Bld\n1 Friends Ln\, Towson\, MD 21204\, USA \nTowson \n \n3rd Floor.
URL:https://www.marylanddcdl.org/event/int-in-person-cc-hybrid-agape-meeting-maryland-25/
LOCATION:VA
CATEGORIES:Community Events
END:VEVENT
BEGIN:VEVENT
DTSTART;TZID=America/New_York:20270421T110000
DTEND;TZID=America/New_York:20270421T150000
DTSTAMP:20260425T072730
CREATED:20260112T185808Z
LAST-MODIFIED:20260420T195807Z
UID:10001955-1808305200-1808319600@www.marylanddcdl.org
SUMMARY:Deaf Seniors--Card Games
DESCRIPTION:We will have a variety of card games available. If you would like to bring your own games\, you are more than welcome to do so. Please remember to bring your own lunch. \nBefore joining\, you must register with the Center. A 50+ Center registration form and a waiver & release form can be found here:https://www.howardcountymd.gov/resource/50-center-membership-packet.
URL:https://www.marylanddcdl.org/event/deaf-seniors-card-games-16/
LOCATION:North Laurel Community Center\, 9411 Whiskey Bottom Rd\, Laurel\, MD\, United States
CATEGORIES:Deaf Senior Citizens
GEO:39.120469;-76.837445
X-APPLE-STRUCTURED-LOCATION;VALUE=URI;X-ADDRESS=North Laurel Community Center 9411 Whiskey Bottom Rd Laurel MD United States;X-APPLE-RADIUS=500;X-TITLE=9411 Whiskey Bottom Rd:geo:-76.837445,39.120469
END:VEVENT
BEGIN:VEVENT
DTSTART;TZID=America/New_York:20270422T183000
DTEND;TZID=America/New_York:20270422T203000
DTSTAMP:20260425T072730
CREATED:20260108T191541Z
LAST-MODIFIED:20260108T191541Z
UID:10001860-1808418600-1808425800@www.marylanddcdl.org
SUMMARY:MDCC Bingo every 4th Thursday 6:30-8:30pm
DESCRIPTION:$10 FOR 5 GAMES | CASH PRIZES!\nOptional: Bring $5 for raffle prizes
URL:https://www.marylanddcdl.org/event/mdcc-bingo-every-4th-thursday-630-830pm-8/
LOCATION:Capital Crave 5901 Old National Pike\, Frederick\, MD\, United States
CATEGORIES:Deaf Senior Citizens
GEO:39.492596;-77.461211
END:VEVENT
BEGIN:VEVENT
DTSTART;VALUE=DATE:20270426
DTEND;VALUE=DATE:20270427
DTSTAMP:20260425T072730
CREATED:20250429T222813Z
LAST-MODIFIED:20260424T224258Z
UID:10001138-1808697600-1808783999@www.marylanddcdl.org
SUMMARY:Robert McGregor
DESCRIPTION:Robert P. McGregor – Born April 26\, 1849\, in Lockland\, OH.  Died December 21\, 1926; Last home address site: Columbus\, OH. \nFirst president and one of the three co-founders of NAD.  Educator\, administrator\, writer\, skilled orator and leader.  Founder of the Ohio Home for the Aged and Infirm Deaf in 1896\, now known as Columbus Colony.
URL:https://www.marylanddcdl.org/event/robert-mcgregor-3/
LOCATION:VA
CATEGORIES:Library for Deaf Action's Deaf Culture Calendar
END:VEVENT
BEGIN:VEVENT
DTSTART;TZID=America/New_York:20270426T190000
DTEND;TZID=America/New_York:20270426T200000
DTSTAMP:20260425T072730
CREATED:20250507T180405Z
LAST-MODIFIED:20250507T180405Z
UID:10001331-1808766000-1808769600@www.marylanddcdl.org
SUMMARY:In PERSON Deaf A.A. Meeting at 857 Club
DESCRIPTION:Deaf A.A meetingMeeting is conducted in ASL.Location: 857 ClubFlyer https://drive.google.com/file/d/1_YJS8wPWkd5ifj4J9t3jiYylhatg7wUB/view?usp=sharing
URL:https://www.marylanddcdl.org/event/in-person-deaf-a-a-meeting-at-857-club-107/
LOCATION:100 S Haven St\, Baltimore\, MD\, United States
CATEGORIES:Community Events
GEO:39.279207;-76.557237
END:VEVENT
BEGIN:VEVENT
DTSTART;VALUE=DATE:20270501
DTEND;VALUE=DATE:20270502
DTSTAMP:20260425T072730
CREATED:20250529T222739Z
LAST-MODIFIED:20260424T224258Z
UID:10001334-1809129600-1809215999@www.marylanddcdl.org
SUMMARY:Better Hearing & Speech Month
DESCRIPTION:Better Hearing and Speech MonthMay\, since 1927To raise public understanding about hearing\, voice\, speech\, and language disorders\, and recognize speech and hearing professionals for the important work they do. American Speech-Language Hearing Association has library resources.  www.asha.org
URL:https://www.marylanddcdl.org/event/better-hearing-speech-month-3/
LOCATION:VA
CATEGORIES:Library for Deaf Action's Deaf Culture Calendar
END:VEVENT
BEGIN:VEVENT
DTSTART;TZID=America/New_York:20270502T190000
DTEND;TZID=America/New_York:20270502T210000
DTSTAMP:20260425T072730
CREATED:20260112T185809Z
LAST-MODIFIED:20260420T195808Z
UID:10001956-1809284400-1809291600@www.marylanddcdl.org
SUMMARY:ASL Social Chats @ Fairfax Wegmans
DESCRIPTION:Every 1st and 3rd Sunday of each month\nWe welcome all levels of signers to come and join us for an evening of ASL socializing and practice.  We can be found on the upper level\, typically near the stairs.  Email contact: jona3ki@msn.com
URL:https://www.marylanddcdl.org/event/asl-social-chats-fairfax-wegmans-35/
LOCATION:11620 Monument Drive\, Fairfax\, VA\, United States
CATEGORIES:Deaf Senior Citizens
GEO:38.853231;-77.305097
END:VEVENT
END:VCALENDAR